Workbook

Sheet الصور
B1: صور التدريب: الدماغ يتعلم منها
B2: كل صورة 5×5 بكسل. 1 = بكسل داكن، 0 = فارغ. الجواب: 1 = تفاح، 0 = موز. الخانات 13-16 حرة: ارسم صورك الخاصة هناك (اكتب 1 في مربع).
B4: صورة 1 | F4: 1 | I4: صورة 2 | M4: 0 | P4: صورة 3 | T4: 1 | W4: صورة 4 | AA4: 0
B5: 0 | C5: 0 | D5: 1 | E5: 0 | F5: 0 | I5: 0 | J5: 0 | K5: 0 | L5: 0 | M5: 1 | P5: 0 | Q5: 1 | R5: 0 | S5: 0 | T5: 0 | W5: 1 | X5: 0 | Y5: 0 | Z5: 0 | AA5: 0
B6: 0 | C6: 1 | D6: 1 | E6: 1 | F6: 0 | I6: 0 | J6: 0 | K6: 0 | L6: 1 | M6: 1 | P6: 0 | Q6: 1 | R6: 1 | S6: 1 | T6: 0 | W6: 1 | X6: 1 | Y6: 0 | Z6: 0 | AA6: 0
B7: 1 | C7: 1 | D7: 1 | E7: 1 | F7: 1 | I7: 0 | J7: 0 | K7: 1 | L7: 1 | M7: 0 | P7: 1 | Q7: 1 | R7: 1 | S7: 1 | T7: 1 | W7: 0 | X7: 1 | Y7: 1 | Z7: 0 | AA7: 0
B8: 1 | C8: 1 | D8: 1 | E8: 1 | F8: 1 | I8: 0 | J8: 1 | K8: 1 | L8: 0 | M8: 0 | P8: 1 | Q8: 1 | R8: 1 | S8: 1 | T8: 1 | W8: 0 | X8: 0 | Y8: 1 | Z8: 1 | AA8: 0
B9: 0 | C9: 1 | D9: 1 | E9: 1 | F9: 0 | I9: 1 | J9: 1 | K9: 0 | L9: 0 | M9: 0 | P9: 0 | Q9: 1 | R9: 1 | S9: 1 | T9: 0 | W9: 0 | X9: 0 | Y9: 0 | Z9: 1 | AA9: 1
B12: صورة 5 | F12: 1 | I12: صورة 6 | M12: 0 | P12: صورة 7 | T12: 1 | W12: صورة 8 | AA12: 0
B13: 0 | C13: 0 | D13: 0 | E13: 1 | F13: 0 | I13: 0 | J13: 0 | K13: 0 | L13: 1 | M13: 1 | P13: 0 | Q13: 0 | R13: 0 | S13: 0 | T13: 0 | W13: 0 | X13: 0 | Y13: 0 | Z13: 0 | AA13: 0
B14: 0 | C14: 1 | D14: 1 | E14: 1 | F14: 0 | I14: 0 | J14: 0 | K14: 1 | L14: 1 | M14: 1 | P14: 0 | Q14: 1 | R14: 1 | S14: 1 | T14: 0 | W14: 0 | X14: 0 | Y14: 0 | Z14: 0 | AA14: 1
B15: 1 | C15: 1 | D15: 1 | E15: 1 | F15: 1 | I15: 0 | J15: 1 | K15: 1 | L15: 1 | M15: 0 | P15: 1 | Q15: 1 | R15: 1 | S15: 1 | T15: 1 | W15: 0 | X15: 0 | Y15: 0 | Z15: 1 | AA15: 1
B16: 1 | C16: 1 | D16: 1 | E16: 1 | F16: 1 | I16: 1 | J16: 1 | K16: 1 | L16: 0 | M16: 0 | P16: 1 | Q16: 1 | R16: 1 | S16: 1 | T16: 1 | W16: 0 | X16: 0 | Y16: 1 | Z16: 1 | AA16: 0
B17: 0 | C17: 1 | D17: 1 | E17: 1 | F17: 0 | I17: 1 | J17: 1 | K17: 0 | L17: 0 | M17: 0 | P17: 0 | Q17: 1 | R17: 1 | S17: 1 | T17: 0 | W17: 0 | X17: 1 | Y17: 1 | Z17: 0 | AA17: 0
B20: صورة 9 | F20: 1 | I20: صورة 10 | M20: 0 | P20: صورة 11 | T20: 1 | W20: صورة 12 | AA20: 0
B21: 0 | C21: 0 | D21: 0 | E21: 0 | F21: 0 | I21: 0 | J21: 0 | K21: 0 | L21: 0 | M21: 0 | P21: 0 | Q21: 0 | R21: 1 | S21: 0 | T21: 0 | W21: 0 | X21: 0 | Y21: 0 | Z21: 0 | AA21: 1
B22: 0 | C22: 0 | D22: 1 | E22: 0 | F22: 0 | I22: 0 | J22: 0 | K22: 0 | L22: 0 | M22: 0 | P22: 1 | Q22: 1 | R22: 1 | S22: 1 | T22: 1 | W22: 0 | X22: 0 | Y22: 0 | Z22: 1 | AA22: 0
B23: 0 | C23: 1 | D23: 1 | E23: 1 | F23: 0 | I23: 1 | J23: 1 | K23: 1 | L23: 1 | M23: 1 | P23: 1 | Q23: 1 | R23: 1 | S23: 1 | T23: 1 | W23: 0 | X23: 0 | Y23: 1 | Z23: 0 | AA23: 0
B24: 0 | C24: 1 | D24: 1 | E24: 1 | F24: 0 | I24: 0 | J24: 1 | K24: 1 | L24: 1 | M24: 0 | P24: 1 | Q24: 1 | R24: 1 | S24: 1 | T24: 1 | W24: 0 | X24: 1 | Y24: 0 | Z24: 0 | AA24: 0
B25: 0 | C25: 0 | D25: 1 | E25: 0 | F25: 0 | I25: 0 | J25: 0 | K25: 0 | L25: 0 | M25: 0 | P25: 0 | Q25: 1 | R25: 1 | S25: 1 | T25: 0 | W25: 1 | X25: 0 | Y25: 0 | Z25: 0 | AA25: 0
B28: صورة 13 | I28: صورة 14 | P28: صورة 15 | W28: صورة 16

Sheet التعلّم
A1: التعلّم: غرفة المحرك (كل صف = الدماغ ينظر إلى صورة ويصحح نفسه)
A3: معدل التعلّم (غيّره في ورقة الدماغ) | E3: ='الدماغ'!$C$4
A4: عدد الصور (N) | E4: ='الدماغ'!$C$5
M5: بكسلات هذه الصورة (x1-x25) | AL5: الأوزان = الدماغ (w1-w25)
A6: الخطوة | B6: الجولة | C6: الصورة | D6: الخانة | E6: الجواب | F6: النتيجة | G6: احتمال (تفاح) | H6: الذكاء يقول | I6: خطأ؟ | J6: الخسارة | K6: الفرق | L6: الانحياز | M6: x1 | N6: x2 | O6: x3 | P6: x4 | Q6: x5 | R6: x6 | S6: x7 | T6: x8 | U6: x9 | V6: x10 | W6: x11 | X6: x12 | Y6: x13 | Z6: x14 | AA6: x15 | AB6: x16 | AC6: x17 | AD6: x18 | AE6: x19 | AF6: x20 | AG6: x21 | AH6: x22 | AI6: x23 | AJ6: x24 | AK6: x25 | AL6: w1 | AM6: w2 | AN6: w3 | AO6: w4 | AP6: w5 | AQ6: w6 | AR6: w7 | AS6: w8 | AT6: w9 | AU6: w10 | AV6: w11 | AW6: w12 | AX6: w13 | AY6: w14 | AZ6: w15 | BA6: w16 | BB6: w17 | BC6: w18 | BD6: w19 | BE6: w20 | BF6: w21 | BG6: w22 | BH6: w23 | BI6: w24 | BJ6: w25
A7: 0 | L7: 0 | AL7: 0 | AM7: 0 | AN7: 0 | AO7: 0 | AP7: 0 | AQ7: 0 | AR7: 0 | AS7: 0 | AT7: 0 | AU7: 0 | AV7: 0 | AW7: 0 | AX7: 0 | AY7: 0 | AZ7: 0 | BA7: 0 | BB7: 0 | BC7: 0 | BD7: 0 | BE7: 0 | BF7: 0 | BG7: 0 | BH7: 0 | BI7: 0 | BJ7: 0
A8: =A7+1 | B8: =INT((A8-1)/$E$4)+1 | C8: =MOD(A8-1,$E$4)+1 | D8: =MATCH(C8,'البيانات'!$B$2:$B$17,0) | E8: =INDEX('البيانات'!$C$2:$C$17,D8) | H8: =IF(G8="","",IF(G8>=0.5,1,0)) | I8: =IF(H8="","",IF(H8=E8,0,1)) | J8: =IF(G8="","",-(E8*LN(MAX(G8,0.000000001))+(1-E8)*LN(MAX(1-G8,0.000000001)))) | M8: =INDEX('البيانات'!$D$2:$AB$17,$D8,1) | N8: =INDEX('البيانات'!$D$2:$AB$17,$D8,2) | O8: =INDEX('البيانات'!$D$2:$AB$17,$D8,3) | P8: =INDEX('البيانات'!$D$2:$AB$17,$D8,4) | Q8: =INDEX('البيانات'!$D$2:$AB$17,$D8,5) | R8: =INDEX('البيانات'!$D$2:$AB$17,$D8,6) | S8: =INDEX('البيانات'!$D$2:$AB$17,$D8,7) | T8: =INDEX('البيانات'!$D$2:$AB$17,$D8,8) | U8: =INDEX('البيانات'!$D$2:$AB$17,$D8,9) | V8: =INDEX('البيانات'!$D$2:$AB$17,$D8,10) | W8: =INDEX('البيانات'!$D$2:$AB$17,$D8,11) | X8: =INDEX('البيانات'!$D$2:$AB$17,$D8,12) | Y8: =INDEX('البيانات'!$D$2:$AB$17,$D8,13) | Z8: =INDEX('البيانات'!$D$2:$AB$17,$D8,14) | AA8: =INDEX('البيانات'!$D$2:$AB$17,$D8,15) | AB8: =INDEX('البيانات'!$D$2:$AB$17,$D8,16) | AC8: =INDEX('البيانات'!$D$2:$AB$17,$D8,17) | AD8: =INDEX('البيانات'!$D$2:$AB$17,$D8,18) | AE8: =INDEX('البيانات'!$D$2:$AB$17,$D8,19) | AF8: =INDEX('البيانات'!$D$2:$AB$17,$D8,20) | AG8: =INDEX('البيانات'!$D$2:$AB$17,$D8,21) | AH8: =INDEX('البيانات'!$D$2:$AB$17,$D8,22) | AI8: =INDEX('البيانات'!$D$2:$AB$17,$D8,23) | AJ8: =INDEX('البيانات'!$D$2:$AB$17,$D8,24) | AK8: =INDEX('البيانات'!$D$2:$AB$17,$D8,25)
A9: =A8+1 | B9: =INT((A9-1)/$E$4)+1 | C9: =MOD(A9-1,$E$4)+1 | D9: =MATCH(C9,'البيانات'!$B$2:$B$17,0) | E9: =INDEX('البيانات'!$C$2:$C$17,D9) | H9: =IF(G9="","",IF(G9>=0.5,1,0)) | I9: =IF(H9="","",IF(H9=E9,0,1)) | J9: =IF(G9="","",-(E9*LN(MAX(G9,0.000000001))+(1-E9)*LN(MAX(1-G9,0.000000001)))) | M9: =INDEX('البيانات'!$D$2:$AB$17,$D9,1) | N9: =INDEX('البيانات'!$D$2:$AB$17,$D9,2) | O9: =INDEX('البيانات'!$D$2:$AB$17,$D9,3) | P9: =INDEX('البيانات'!$D$2:$AB$17,$D9,4) | Q9: =INDEX('البيانات'!$D$2:$AB$17,$D9,5) | R9: =INDEX('البيانات'!$D$2:$AB$17,$D9,6) | S9: =INDEX('البيانات'!$D$2:$AB$17,$D9,7) | T9: =INDEX('البيانات'!$D$2:$AB$17,$D9,8) | U9: =INDEX('البيانات'!$D$2:$AB$17,$D9,9) | V9: =INDEX('البيانات'!$D$2:$AB$17,$D9,10) | W9: =INDEX('البيانات'!$D$2:$AB$17,$D9,11) | X9: =INDEX('البيانات'!$D$2:$AB$17,$D9,12) | Y9: =INDEX('البيانات'!$D$2:$AB$17,$D9,13) | Z9: =INDEX('البيانات'!$D$2:$AB$17,$D9,14) | AA9: =INDEX('البيانات'!$D$2:$AB$17,$D9,15) | AB9: =INDEX('البيانات'!$D$2:$AB$17,$D9,16) | AC9: =INDEX('البيانات'!$D$2:$AB$17,$D9,17) | AD9: =INDEX('البيانات'!$D$2:$AB$17,$D9,18) | AE9: =INDEX('البيانات'!$D$2:$AB$17,$D9,19) | AF9: =INDEX('البيانات'!$D$2:$AB$17,$D9,20) | AG9: =INDEX('البيانات'!$D$2:$AB$17,$D9,21) | AH9: =INDEX('البيانات'!$D$2:$AB$17,$D9,22) | AI9: =INDEX('البيانات'!$D$2:$AB$17,$D9,23) | AJ9: =INDEX('البيانات'!$D$2:$AB$17,$D9,24) | AK9: =INDEX('البيانات'!$D$2:$AB$17,$D9,25)
A10: =A9+1 | B10: =INT((A10-1)/$E$4)+1 | C10: =MOD(A10-1,$E$4)+1 | D10: =MATCH(C10,'البيانات'!$B$2:$B$17,0) | E10: =INDEX('البيانات'!$C$2:$C$17,D10) | H10: =IF(G10="","",IF(G10>=0.5,1,0)) | I10: =IF(H10="","",IF(H10=E10,0,1)) | J10: =IF(G10="","",-(E10*LN(MAX(G10,0.000000001))+(1-E10)*LN(MAX(1-G10,0.000000001)))) | M10: =INDEX('البيانات'!$D$2:$AB$17,$D10,1) | N10: =INDEX('البيانات'!$D$2:$AB$17,$D10,2) | O10: =INDEX('البيانات'!$D$2:$AB$17,$D10,3) | P10: =INDEX('البيانات'!$D$2:$AB$17,$D10,4) | Q10: =INDEX('البيانات'!$D$2:$AB$17,$D10,5) | R10: =INDEX('البيانات'!$D$2:$AB$17,$D10,6) | S10: =INDEX('البيانات'!$D$2:$AB$17,$D10,7) | T10: =INDEX('البيانات'!$D$2:$AB$17,$D10,8) | U10: =INDEX('البيانات'!$D$2:$AB$17,$D10,9) | V10: =INDEX('البيانات'!$D$2:$AB$17,$D10,10) | W10: =INDEX('البيانات'!$D$2:$AB$17,$D10,11) | X10: =INDEX('البيانات'!$D$2:$AB$17,$D10,12) | Y10: =INDEX('البيانات'!$D$2:$AB$17,$D10,13) | Z10: =INDEX('البيانات'!$D$2:$AB$17,$D10,14) | AA10: =INDEX('البيانات'!$D$2:$AB$17,$D10,15) | AB10: =INDEX('البيانات'!$D$2:$AB$17,$D10,16) | AC10: =INDEX('البيانات'!$D$2:$AB$17,$D10,17) | AD10: =INDEX('البيانات'!$D$2:$AB$17,$D10,18) | AE10: =INDEX('البيانات'!$D$2:$AB$17,$D10,19) | AF10: =INDEX('البيانات'!$D$2:$AB$17,$D10,20) | AG10: =INDEX('البيانات'!$D$2:$AB$17,$D10,21) | AH10: =INDEX('البيانات'!$D$2:$AB$17,$D10,22) | AI10: =INDEX('البيانات'!$D$2:$AB$17,$D10,23) | AJ10: =INDEX('البيانات'!$D$2:$AB$17,$D10,24) | AK10: =INDEX('البيانات'!$D$2:$AB$17,$D10,25)
A11: =A10+1 | B11: =INT((A11-1)/$E$4)+1 | C11: =MOD(A11-1,$E$4)+1 | D11: =MATCH(C11,'البيانات'!$B$2:$B$17,0) | E11: =INDEX('البيانات'!$C$2:$C$17,D11) | H11: =IF(G11="","",IF(G11>=0.5,1,0)) | I11: =IF(H11="","",IF(H11=E11,0,1)) | J11: =IF(G11="","",-(E11*LN(MAX(G11,0.000000001))+(1-E11)*LN(MAX(1-G11,0.000000001)))) | M11: =INDEX('البيانات'!$D$2:$AB$17,$D11,1) | N11: =INDEX('البيانات'!$D$2:$AB$17,$D11,2) | O11: =INDEX('البيانات'!$D$2:$AB$17,$D11,3) | P11: =INDEX('البيانات'!$D$2:$AB$17,$D11,4) | Q11: =INDEX('البيانات'!$D$2:$AB$17,$D11,5) | R11: =INDEX('البيانات'!$D$2:$AB$17,$D11,6) | S11: =INDEX('البيانات'!$D$2:$AB$17,$D11,7) | T11: =INDEX('البيانات'!$D$2:$AB$17,$D11,8) | U11: =INDEX('البيانات'!$D$2:$AB$17,$D11,9) | V11: =INDEX('البيانات'!$D$2:$AB$17,$D11,10) | W11: =INDEX('البيانات'!$D$2:$AB$17,$D11,11) | X11: =INDEX('البيانات'!$D$2:$AB$17,$D11,12) | Y11: =INDEX('البيانات'!$D$2:$AB$17,$D11,13) | Z11: =INDEX('البيانات'!$D$2:$AB$17,$D11,14) | AA11: =INDEX('البيانات'!$D$2:$AB$17,$D11,15) | AB11: =INDEX('البيانات'!$D$2:$AB$17,$D11,16) | AC11: =INDEX('البيانات'!$D$2:$AB$17,$D11,17) | AD11: =INDEX('البيانات'!$D$2:$AB$17,$D11,18) | AE11: =INDEX('البيانات'!$D$2:$AB$17,$D11,19) | AF11: =INDEX('البيانات'!$D$2:$AB$17,$D11,20) | AG11: =INDEX('البيانات'!$D$2:$AB$17,$D11,21) | AH11: =INDEX('البيانات'!$D$2:$AB$17,$D11,22) | AI11: =INDEX('البيانات'!$D$2:$AB$17,$D11,23) | AJ11: =INDEX('البيانات'!$D$2:$AB$17,$D11,24) | AK11: =INDEX('البيانات'!$D$2:$AB$17,$D11,25)
A12: =A11+1 | B12: =INT((A12-1)/$E$4)+1 | C12: =MOD(A12-1,$E$4)+1 | D12: =MATCH(C12,'البيانات'!$B$2:$B$17,0) | E12: =INDEX('البيانات'!$C$2:$C$17,D12) | H12: =IF(G12="","",IF(G12>=0.5,1,0)) | I12: =IF(H12="","",IF(H12=E12,0,1)) | J12: =IF(G12="","",-(E12*LN(MAX(G12,0.000000001))+(1-E12)*LN(MAX(1-G12,0.000000001)))) | M12: =INDEX('البيانات'!$D$2:$AB$17,$D12,1) | N12: =INDEX('البيانات'!$D$2:$AB$17,$D12,2) | O12: =INDEX('البيانات'!$D$2:$AB$17,$D12,3) | P12: =INDEX('البيانات'!$D$2:$AB$17,$D12,4) | Q12: =INDEX('البيانات'!$D$2:$AB$17,$D12,5) | R12: =INDEX('البيانات'!$D$2:$AB$17,$D12,6) | S12: =INDEX('البيانات'!$D$2:$AB$17,$D12,7) | T12: =INDEX('البيانات'!$D$2:$AB$17,$D12,8) | U12: =INDEX('البيانات'!$D$2:$AB$17,$D12,9) | V12: =INDEX('البيانات'!$D$2:$AB$17,$D12,10) | W12: =INDEX('البيانات'!$D$2:$AB$17,$D12,11) | X12: =INDEX('البيانات'!$D$2:$AB$17,$D12,12) | Y12: =INDEX('البيانات'!$D$2:$AB$17,$D12,13) | Z12: =INDEX('البيانات'!$D$2:$AB$17,$D12,14) | AA12: =INDEX('البيانات'!$D$2:$AB$17,$D12,15) | AB12: =INDEX('البيانات'!$D$2:$AB$17,$D12,16) | AC12: =INDEX('البيانات'!$D$2:$AB$17,$D12,17) | AD12: =INDEX('البيانات'!$D$2:$AB$17,$D12,18) | AE12: =INDEX('البيانات'!$D$2:$AB$17,$D12,19) | AF12: =INDEX('البيانات'!$D$2:$AB$17,$D12,20) | AG12: =INDEX('البيانات'!$D$2:$AB$17,$D12,21) | AH12: =INDEX('البيانات'!$D$2:$AB$17,$D12,22) | AI12: =INDEX('البيانات'!$D$2:$AB$17,$D12,23) | AJ12: =INDEX('البيانات'!$D$2:$AB$17,$D12,24) | AK12: =INDEX('البيانات'!$D$2:$AB$17,$D12,25)
A13: =A12+1 | B13: =INT((A13-1)/$E$4)+1 | C13: =MOD(A13-1,$E$4)+1 | D13: =MATCH(C13,'البيانات'!$B$2:$B$17,0) | E13: =INDEX('البيانات'!$C$2:$C$17,D13) | H13: =IF(G13="","",IF(G13>=0.5,1,0)) | I13: =IF(H13="","",IF(H13=E13,0,1)) | J13: =IF(G13="","",-(E13*LN(MAX(G13,0.000000001))+(1-E13)*LN(MAX(1-G13,0.000000001)))) | M13: =INDEX('البيانات'!$D$2:$AB$17,$D13,1) | N13: =INDEX('البيانات'!$D$2:$AB$17,$D13,2) | O13: =INDEX('البيانات'!$D$2:$AB$17,$D13,3) | P13: =INDEX('البيانات'!$D$2:$AB$17,$D13,4) | Q13: =INDEX('البيانات'!$D$2:$AB$17,$D13,5) | R13: =INDEX('البيانات'!$D$2:$AB$17,$D13,6) | S13: =INDEX('البيانات'!$D$2:$AB$17,$D13,7) | T13: =INDEX('البيانات'!$D$2:$AB$17,$D13,8) | U13: =INDEX('البيانات'!$D$2:$AB$17,$D13,9) | V13: =INDEX('البيانات'!$D$2:$AB$17,$D13,10) | W13: =INDEX('البيانات'!$D$2:$AB$17,$D13,11) | X13: =INDEX('البيانات'!$D$2:$AB$17,$D13,12) | Y13: =INDEX('البيانات'!$D$2:$AB$17,$D13,13) | Z13: =INDEX('البيانات'!$D$2:$AB$17,$D13,14) | AA13: =INDEX('البيانات'!$D$2:$AB$17,$D13,15) | AB13: =INDEX('البيانات'!$D$2:$AB$17,$D13,16) | AC13: =INDEX('البيانات'!$D$2:$AB$17,$D13,17) | AD13: =INDEX('البيانات'!$D$2:$AB$17,$D13,18) | AE13: =INDEX('البيانات'!$D$2:$AB$17,$D13,19) | AF13: =INDEX('البيانات'!$D$2:$AB$17,$D13,20) | AG13: =INDEX('البيانات'!$D$2:$AB$17,$D13,21) | AH13: =INDEX('البيانات'!$D$2:$AB$17,$D13,22) | AI13: =INDEX('البيانات'!$D$2:$AB$17,$D13,23) | AJ13: =INDEX('البيانات'!$D$2:$AB$17,$D13,24) | AK13: =INDEX('البيانات'!$D$2:$AB$17,$D13,25)
A14: =A13+1 | B14: =INT((A14-1)/$E$4)+1 | C14: =MOD(A14-1,$E$4)+1 | D14: =MATCH(C14,'البيانات'!$B$2:$B$17,0) | E14: =INDEX('البيانات'!$C$2:$C$17,D14) | H14: =IF(G14="","",IF(G14>=0.5,1,0)) | I14: =IF(H14="","",IF(H14=E14,0,1)) | J14: =IF(G14="","",-(E14*LN(MAX(G14,0.000000001))+(1-E14)*LN(MAX(1-G14,0.000000001)))) | M14: =INDEX('البيانات'!$D$2:$AB$17,$D14,1) | N14: =INDEX('البيانات'!$D$2:$AB$17,$D14,2) | O14: =INDEX('البيانات'!$D$2:$AB$17,$D14,3) | P14: =INDEX('البيانات'!$D$2:$AB$17,$D14,4) | Q14: =INDEX('البيانات'!$D$2:$AB$17,$D14,5) | R14: =INDEX('البيانات'!$D$2:$AB$17,$D14,6) | S14: =INDEX('البيانات'!$D$2:$AB$17,$D14,7) | T14: =INDEX('البيانات'!$D$2:$AB$17,$D14,8) | U14: =INDEX('البيانات'!$D$2:$AB$17,$D14,9) | V14: =INDEX('البيانات'!$D$2:$AB$17,$D14,10) | W14: =INDEX('البيانات'!$D$2:$AB$17,$D14,11) | X14: =INDEX('البيانات'!$D$2:$AB$17,$D14,12) | Y14: =INDEX('البيانات'!$D$2:$AB$17,$D14,13) | Z14: =INDEX('البيانات'!$D$2:$AB$17,$D14,14) | AA14: =INDEX('البيانات'!$D$2:$AB$17,$D14,15) | AB14: =INDEX('البيانات'!$D$2:$AB$17,$D14,16) | AC14: =INDEX('البيانات'!$D$2:$AB$17,$D14,17) | AD14: =INDEX('البيانات'!$D$2:$AB$17,$D14,18) | AE14: =INDEX('البيانات'!$D$2:$AB$17,$D14,19) | AF14: =INDEX('البيانات'!$D$2:$AB$17,$D14,20) | AG14: =INDEX('البيانات'!$D$2:$AB$17,$D14,21) | AH14: =INDEX('البيانات'!$D$2:$AB$17,$D14,22) | AI14: =INDEX('البيانات'!$D$2:$AB$17,$D14,23) | AJ14: =INDEX('البيانات'!$D$2:$AB$17,$D14,24) | AK14: =INDEX('البيانات'!$D$2:$AB$17,$D14,25)
A15: =A14+1 | B15: =INT((A15-1)/$E$4)+1 | C15: =MOD(A15-1,$E$4)+1 | D15: =MATCH(C15,'البيانات'!$B$2:$B$17,0) | E15: =INDEX('البيانات'!$C$2:$C$17,D15) | H15: =IF(G15="","",IF(G15>=0.5,1,0)) | I15: =IF(H15="","",IF(H15=E15,0,1)) | J15: =IF(G15="","",-(E15*LN(MAX(G15,0.000000001))+(1-E15)*LN(MAX(1-G15,0.000000001)))) | M15: =INDEX('البيانات'!$D$2:$AB$17,$D15,1) | N15: =INDEX('البيانات'!$D$2:$AB$17,$D15,2) | O15: =INDEX('البيانات'!$D$2:$AB$17,$D15,3) | P15: =INDEX('البيانات'!$D$2:$AB$17,$D15,4) | Q15: =INDEX('البيانات'!$D$2:$AB$17,$D15,5) | R15: =INDEX('البيانات'!$D$2:$AB$17,$D15,6) | S15: =INDEX('البيانات'!$D$2:$AB$17,$D15,7) | T15: =INDEX('البيانات'!$D$2:$AB$17,$D15,8) | U15: =INDEX('البيانات'!$D$2:$AB$17,$D15,9) | V15: =INDEX('البيانات'!$D$2:$AB$17,$D15,10) | W15: =INDEX('البيانات'!$D$2:$AB$17,$D15,11) | X15: =INDEX('البيانات'!$D$2:$AB$17,$D15,12) | Y15: =INDEX('البيانات'!$D$2:$AB$17,$D15,13) | Z15: =INDEX('البيانات'!$D$2:$AB$17,$D15,14) | AA15: =INDEX('البيانات'!$D$2:$AB$17,$D15,15) | AB15: =INDEX('البيانات'!$D$2:$AB$17,$D15,16) | AC15: =INDEX('البيانات'!$D$2:$AB$17,$D15,17) | AD15: =INDEX('البيانات'!$D$2:$AB$17,$D15,18) | AE15: =INDEX('البيانات'!$D$2:$AB$17,$D15,19) | AF15: =INDEX('البيانات'!$D$2:$AB$17,$D15,20) | AG15: =INDEX('البيانات'!$D$2:$AB$17,$D15,21) | AH15: =INDEX('البيانات'!$D$2:$AB$17,$D15,22) | AI15: =INDEX('البيانات'!$D$2:$AB$17,$D15,23) | AJ15: =INDEX('البيانات'!$D$2:$AB$17,$D15,24) | AK15: =INDEX('البيانات'!$D$2:$AB$17,$D15,25)
A16: =A15+1 | B16: =INT((A16-1)/$E$4)+1 | C16: =MOD(A16-1,$E$4)+1 | D16: =MATCH(C16,'البيانات'!$B$2:$B$17,0) | E16: =INDEX('البيانات'!$C$2:$C$17,D16) | H16: =IF(G16="","",IF(G16>=0.5,1,0)) | I16: =IF(H16="","",IF(H16=E16,0,1)) | J16: =IF(G16="","",-(E16*LN(MAX(G16,0.000000001))+(1-E16)*LN(MAX(1-G16,0.000000001)))) | M16: =INDEX('البيانات'!$D$2:$AB$17,$D16,1) | N16: =INDEX('البيانات'!$D$2:$AB$17,$D16,2) | O16: =INDEX('البيانات'!$D$2:$AB$17,$D16,3) | P16: =INDEX('البيانات'!$D$2:$AB$17,$D16,4) | Q16: =INDEX('البيانات'!$D$2:$AB$17,$D16,5) | R16: =INDEX('البيانات'!$D$2:$AB$17,$D16,6) | S16: =INDEX('البيانات'!$D$2:$AB$17,$D16,7) | T16: =INDEX('البيانات'!$D$2:$AB$17,$D16,8) | U16: =INDEX('البيانات'!$D$2:$AB$17,$D16,9) | V16: =INDEX('البيانات'!$D$2:$AB$17,$D16,10) | W16: =INDEX('البيانات'!$D$2:$AB$17,$D16,11) | X16: =INDEX('البيانات'!$D$2:$AB$17,$D16,12) | Y16: =INDEX('البيانات'!$D$2:$AB$17,$D16,13) | Z16: =INDEX('البيانات'!$D$2:$AB$17,$D16,14) | AA16: =INDEX('البيانات'!$D$2:$AB$17,$D16,15) | AB16: =INDEX('البيانات'!$D$2:$AB$17,$D16,16) | AC16: =INDEX('البيانات'!$D$2:$AB$17,$D16,17) | AD16: =INDEX('البيانات'!$D$2:$AB$17,$D16,18) | AE16: =INDEX('البيانات'!$D$2:$AB$17,$D16,19) | AF16: =INDEX('البيانات'!$D$2:$AB$17,$D16,20) | AG16: =INDEX('البيانات'!$D$2:$AB$17,$D16,21) | AH16: =INDEX('البيانات'!$D$2:$AB$17,$D16,22) | AI16: =INDEX('البيانات'!$D$2:$AB$17,$D16,23) | AJ16: =INDEX('البيانات'!$D$2:$AB$17,$D16,24) | AK16: =INDEX('البيانات'!$D$2:$AB$17,$D16,25)
A17: =A16+1 | B17: =INT((A17-1)/$E$4)+1 | C17: =MOD(A17-1,$E$4)+1 | D17: =MATCH(C17,'البيانات'!$B$2:$B$17,0) | E17: =INDEX('البيانات'!$C$2:$C$17,D17) | H17: =IF(G17="","",IF(G17>=0.5,1,0)) | I17: =IF(H17="","",IF(H17=E17,0,1)) | J17: =IF(G17="","",-(E17*LN(MAX(G17,0.000000001))+(1-E17)*LN(MAX(1-G17,0.000000001)))) | M17: =INDEX('البيانات'!$D$2:$AB$17,$D17,1) | N17: =INDEX('البيانات'!$D$2:$AB$17,$D17,2) | O17: =INDEX('البيانات'!$D$2:$AB$17,$D17,3) | P17: =INDEX('البيانات'!$D$2:$AB$17,$D17,4) | Q17: =INDEX('البيانات'!$D$2:$AB$17,$D17,5) | R17: =INDEX('البيانات'!$D$2:$AB$17,$D17,6) | S17: =INDEX('البيانات'!$D$2:$AB$17,$D17,7) | T17: =INDEX('البيانات'!$D$2:$AB$17,$D17,8) | U17: =INDEX('البيانات'!$D$2:$AB$17,$D17,9) | V17: =INDEX('البيانات'!$D$2:$AB$17,$D17,10) | W17: =INDEX('البيانات'!$D$2:$AB$17,$D17,11) | X17: =INDEX('البيانات'!$D$2:$AB$17,$D17,12) | Y17: =INDEX('البيانات'!$D$2:$AB$17,$D17,13) | Z17: =INDEX('البيانات'!$D$2:$AB$17,$D17,14) | AA17: =INDEX('البيانات'!$D$2:$AB$17,$D17,15) | AB17: =INDEX('البيانات'!$D$2:$AB$17,$D17,16) | AC17: =INDEX('البيانات'!$D$2:$AB$17,$D17,17) | AD17: =INDEX('البيانات'!$D$2:$AB$17,$D17,18) | AE17: =INDEX('البيانات'!$D$2:$AB$17,$D17,19) | AF17: =INDEX('البيانات'!$D$2:$AB$17,$D17,20) | AG17: =INDEX('البيانات'!$D$2:$AB$17,$D17,21) | AH17: =INDEX('البيانات'!$D$2:$AB$17,$D17,22) | AI17: =INDEX('البيانات'!$D$2:$AB$17,$D17,23) | AJ17: =INDEX('البيانات'!$D$2:$AB$17,$D17,24) | AK17: =INDEX('البيانات'!$D$2:$AB$17,$D17,25)
A18: =A17+1 | B18: =INT((A18-1)/$E$4)+1 | C18: =MOD(A18-1,$E$4)+1 | D18: =MATCH(C18,'البيانات'!$B$2:$B$17,0) | E18: =INDEX('البيانات'!$C$2:$C$17,D18) | H18: =IF(G18="","",IF(G18>=0.5,1,0)) | I18: =IF(H18="","",IF(H18=E18,0,1)) | J18: =IF(G18="","",-(E18*LN(MAX(G18,0.000000001))+(1-E18)*LN(MAX(1-G18,0.000000001)))) | M18: =INDEX('البيانات'!$D$2:$AB$17,$D18,1) | N18: =INDEX('البيانات'!$D$2:$AB$17,$D18,2) | O18: =INDEX('البيانات'!$D$2:$AB$17,$D18,3) | P18: =INDEX('البيانات'!$D$2:$AB$17,$D18,4) | Q18: =INDEX('البيانات'!$D$2:$AB$17,$D18,5) | R18: =INDEX('البيانات'!$D$2:$AB$17,$D18,6) | S18: =INDEX('البيانات'!$D$2:$AB$17,$D18,7) | T18: =INDEX('البيانات'!$D$2:$AB$17,$D18,8) | U18: =INDEX('البيانات'!$D$2:$AB$17,$D18,9) | V18: =INDEX('البيانات'!$D$2:$AB$17,$D18,10) | W18: =INDEX('البيانات'!$D$2:$AB$17,$D18,11) | X18: =INDEX('البيانات'!$D$2:$AB$17,$D18,12) | Y18: =INDEX('البيانات'!$D$2:$AB$17,$D18,13) | Z18: =INDEX('البيانات'!$D$2:$AB$17,$D18,14) | AA18: =INDEX('البيانات'!$D$2:$AB$17,$D18,15) | AB18: =INDEX('البيانات'!$D$2:$AB$17,$D18,16) | AC18: =INDEX('البيانات'!$D$2:$AB$17,$D18,17) | AD18: =INDEX('البيانات'!$D$2:$AB$17,$D18,18) | AE18: =INDEX('البيانات'!$D$2:$AB$17,$D18,19) | AF18: =INDEX('البيانات'!$D$2:$AB$17,$D18,20) | AG18: =INDEX('البيانات'!$D$2:$AB$17,$D18,21) | AH18: =INDEX('البيانات'!$D$2:$AB$17,$D18,22) | AI18: =INDEX('البيانات'!$D$2:$AB$17,$D18,23) | AJ18: =INDEX('البيانات'!$D$2:$AB$17,$D18,24) | AK18: =INDEX('البيانات'!$D$2:$AB$17,$D18,25)
A19: =A18+1 | B19: =INT((A19-1)/$E$4)+1 | C19: =MOD(A19-1,$E$4)+1 | D19: =MATCH(C19,'البيانات'!$B$2:$B$17,0) | E19: =INDEX('البيانات'!$C$2:$C$17,D19) | H19: =IF(G19="","",IF(G19>=0.5,1,0)) | I19: =IF(H19="","",IF(H19=E19,0,1)) | J19: =IF(G19="","",-(E19*LN(MAX(G19,0.000000001))+(1-E19)*LN(MAX(1-G19,0.000000001)))) | M19: =INDEX('البيانات'!$D$2:$AB$17,$D19,1) | N19: =INDEX('البيانات'!$D$2:$AB$17,$D19,2) | O19: =INDEX('البيانات'!$D$2:$AB$17,$D19,3) | P19: =INDEX('البيانات'!$D$2:$AB$17,$D19,4) | Q19: =INDEX('البيانات'!$D$2:$AB$17,$D19,5) | R19: =INDEX('البيانات'!$D$2:$AB$17,$D19,6) | S19: =INDEX('البيانات'!$D$2:$AB$17,$D19,7) | T19: =INDEX('البيانات'!$D$2:$AB$17,$D19,8) | U19: =INDEX('البيانات'!$D$2:$AB$17,$D19,9) | V19: =INDEX('البيانات'!$D$2:$AB$17,$D19,10) | W19: =INDEX('البيانات'!$D$2:$AB$17,$D19,11) | X19: =INDEX('البيانات'!$D$2:$AB$17,$D19,12) | Y19: =INDEX('البيانات'!$D$2:$AB$17,$D19,13) | Z19: =INDEX('البيانات'!$D$2:$AB$17,$D19,14) | AA19: =INDEX('البيانات'!$D$2:$AB$17,$D19,15) | AB19: =INDEX('البيانات'!$D$2:$AB$17,$D19,16) | AC19: =INDEX('البيانات'!$D$2:$AB$17,$D19,17) | AD19: =INDEX('البيانات'!$D$2:$AB$17,$D19,18) | AE19: =INDEX('البيانات'!$D$2:$AB$17,$D19,19) | AF19: =INDEX('البيانات'!$D$2:$AB$17,$D19,20) | AG19: =INDEX('البيانات'!$D$2:$AB$17,$D19,21) | AH19: =INDEX('البيانات'!$D$2:$AB$17,$D19,22) | AI19: =INDEX('البيانات'!$D$2:$AB$17,$D19,23) | AJ19: =INDEX('البيانات'!$D$2:$AB$17,$D19,24) | AK19: =INDEX('البيانات'!$D$2:$AB$17,$D19,25)
... A199: =A198+1 | B199: =INT((A199-1)/$E$4)+1 | C199: =MOD(A199-1,$E$4)+1 | D199: =MATCH(C199,'البيانات'!$B$2:$B$17,0) | E199: =INDEX('البيانات'!$C$2:$C$17,D199) | H199: =IF(G199="","",IF(G199>=0.5,1,0)) | I199: =IF(H199="","",IF(H199=E199,0,1)) | J199: =IF(G199="","",-(E199*LN(MAX(G199,0.000000001))+(1-E199)*LN(MAX(1-G199,0.000000001)))) | M199: =INDEX('البيانات'!$D$2:$AB$17,$D199,1) | N199: =INDEX('البيانات'!$D$2:$AB$17,$D199,2) | O199: =INDEX('البيانات'!$D$2:$AB$17,$D199,3) | P199: =INDEX('البيانات'!$D$2:$AB$17,$D199,4) | Q199: =INDEX('البيانات'!$D$2:$AB$17,$D199,5) | R199: =INDEX('البيانات'!$D$2:$AB$17,$D199,6) | S199: =INDEX('البيانات'!$D$2:$AB$17,$D199,7) | T199: =INDEX('البيانات'!$D$2:$AB$17,$D199,8) | U199: =INDEX('البيانات'!$D$2:$AB$17,$D199,9) | V199: =INDEX('البيانات'!$D$2:$AB$17,$D199,10) | W199: =INDEX('البيانات'!$D$2:$AB$17,$D199,11) | X199: =INDEX('البيانات'!$D$2:$AB$17,$D199,12) | Y199: =INDEX('البيانات'!$D$2:$AB$17,$D199,13) | Z199: =INDEX('البيانات'!$D$2:$AB$17,$D199,14) | AA199: =INDEX('البيانات'!$D$2:$AB$17,$D199,15) | AB199: =INDEX('البيانات'!$D$2:$AB$17,$D199,16) | AC199: =INDEX('البيانات'!$D$2:$AB$17,$D199,17) | AD199: =INDEX('البيانات'!$D$2:$AB$17,$D199,18) | AE199: =INDEX('البيانات'!$D$2:$AB$17,$D199,19) | AF199: =INDEX('البيانات'!$D$2:$AB$17,$D199,20) | AG199: =INDEX('البيانات'!$D$2:$AB$17,$D199,21) | AH199: =INDEX('البيانات'!$D$2:$AB$17,$D199,22) | AI199: =INDEX('البيانات'!$D$2:$AB$17,$D199,23) | AJ199: =INDEX('البيانات'!$D$2:$AB$17,$D199,24) | AK199: =INDEX('البيانات'!$D$2:$AB$17,$D199,25)

Sheet الدماغ
B1: الدماغ: شاهد الذكاء الاصطناعي يتعلم
B4: معدل التعلّم | C4: 0.5 | D4: جرّب 0.05 و 0.5 و 5
B5: عدد صور التدريب (N) | C5: =COUNT('البيانات'!$C$2:$C$17)
B6: متوسط الخسارة في آخر جولة | C6: =IFERROR(AVERAGE(INDEX('التعلّم'!$J$8:$J$199,193-$C$5):INDEX('التعلّم'!$J$8:$J$199,192)),"")
B7: الأخطاء في آخر جولة | C7: =IFERROR(IF(COUNT(INDEX('التعلّم'!$I$8:$I$199,193-$C$5):INDEX('التعلّم'!$I$8:$I$199,192))=0,"",SUM(INDEX('التعلّم'!$I$8:$I$199,193-$C$5):INDEX('التعلّم'!$I$8:$I$199,192))),"")
B8: =IF(C7="","ليس بعد: املأ ورقة التعلّم أولًا.",IF(C7=0,"✔ الدماغ يعرف كل صور التدريب!","تابع التدريب: ارفع معدل التعلّم أو أضف صورًا."))
B9: دقة الاختبار | C9: =IF(ISNUMBER('الاختبار'!$C$18),'الاختبار'!$C$18,"") | D9: الهدف: 90% أو أكثر
H11: ما الذي ينظر إليه الدماغ (الأوزان)
H12: أحمر = دليل تفاح، أصفر = دليل موز
H13: ='التعلّم'!AL199 | I13: ='التعلّم'!AM199 | J13: ='التعلّم'!AN199 | K13: ='التعلّم'!AO199 | L13: ='التعلّم'!AP199
H14: ='التعلّم'!AQ199 | I14: ='التعلّم'!AR199 | J14: ='التعلّم'!AS199 | K14: ='التعلّم'!AT199 | L14: ='التعلّم'!AU199
H15: ='التعلّم'!AV199 | I15: ='التعلّم'!AW199 | J15: ='التعلّم'!AX199 | K15: ='التعلّم'!AY199 | L15: ='التعلّم'!AZ199
H16: ='التعلّم'!BA199 | I16: ='التعلّم'!BB199 | J16: ='التعلّم'!BC199 | K16: ='التعلّم'!BD199 | L16: ='التعلّم'!BE199
H17: ='التعلّم'!BF199 | I17: ='التعلّم'!BG199 | J17: ='التعلّم'!BH199 | K17: ='التعلّم'!BI199 | L17: ='التعلّم'!BJ199
H18: الانحياز | I18: ='التعلّم'!$L$199
B20: الجولة / الأخطاء / الخسارة
B21: الجولة | C21: الأخطاء | D21: الخسارة
B22: 1 | C22: =IFERROR(IF(COUNTIF('التعلّم'!$B$8:$B$199,B22)=0,NA(),SUMIF('التعلّم'!$B$8:$B$199,B22,'التعلّم'!$I$8:$I$199)),NA()) | D22: =IFERROR(IF(COUNTIF('التعلّم'!$B$8:$B$199,B22)=0,NA(),AVERAGEIF('التعلّم'!$B$8:$B$199,B22,'التعلّم'!$J$8:$J$199)),NA())
B23: 2 | C23: =IFERROR(IF(COUNTIF('التعلّم'!$B$8:$B$199,B23)=0,NA(),SUMIF('التعلّم'!$B$8:$B$199,B23,'التعلّم'!$I$8:$I$199)),NA()) | D23: =IFERROR(IF(COUNTIF('التعلّم'!$B$8:$B$199,B23)=0,NA(),AVERAGEIF('التعلّم'!$B$8:$B$199,B23,'التعلّم'!$J$8:$J$199)),NA())
B24: 3 | C24: =IFERROR(IF(COUNTIF('التعلّم'!$B$8:$B$199,B24)=0,NA(),SUMIF('التعلّم'!$B$8:$B$199,B24,'التعلّم'!$I$8:$I$199)),NA()) | D24: =IFERROR(IF(COUNTIF('التعلّم'!$B$8:$B$199,B24)=0,NA(),AVERAGEIF('التعلّم'!$B$8:$B$199,B24,'التعلّم'!$J$8:$J$199)),NA())
B25: 4 | C25: =IFERROR(IF(COUNTIF('التعلّم'!$B$8:$B$199,B25)=0,NA(),SUMIF('التعلّم'!$B$8:$B$199,B25,'التعلّم'!$I$8:$I$199)),NA()) | D25: =IFERROR(IF(COUNTIF('التعلّم'!$B$8:$B$199,B25)=0,NA(),AVERAGEIF('التعلّم'!$B$8:$B$199,B25,'التعلّم'!$J$8:$J$199)),NA())
B26: 5 | C26: =IFERROR(IF(COUNTIF('التعلّم'!$B$8:$B$199,B26)=0,NA(),SUMIF('التعلّم'!$B$8:$B$199,B26,'التعلّم'!$I$8:$I$199)),NA()) | D26: =IFERROR(IF(COUNTIF('التعلّم'!$B$8:$B$199,B26)=0,NA(),AVERAGEIF('التعلّم'!$B$8:$B$199,B26,'التعلّم'!$J$8:$J$199)),NA())
B27: 6 | C27: =IFERROR(IF(COUNTIF('التعلّم'!$B$8:$B$199,B27)=0,NA(),SUMIF('التعلّم'!$B$8:$B$199,B27,'التعلّم'!$I$8:$I$199)),NA()) | D27: =IFERROR(IF(COUNTIF('التعلّم'!$B$8:$B$199,B27)=0,NA(),AVERAGEIF('التعلّم'!$B$8:$B$199,B27,'التعلّم'!$J$8:$J$199)),NA())
B28: 7 | C28: =IFERROR(IF(COUNTIF('التعلّم'!$B$8:$B$199,B28)=0,NA(),SUMIF('التعلّم'!$B$8:$B$199,B28,'التعلّم'!$I$8:$I$199)),NA()) | D28: =IFERROR(IF(COUNTIF('التعلّم'!$B$8:$B$199,B28)=0,NA(),AVERAGEIF('التعلّم'!$B$8:$B$199,B28,'التعلّم'!$J$8:$J$199)),NA())
B29: 8 | C29: =IFERROR(IF(COUNTIF('التعلّم'!$B$8:$B$199,B29)=0,NA(),SUMIF('التعلّم'!$B$8:$B$199,B29,'التعلّم'!$I$8:$I$199)),NA()) | D29: =IFERROR(IF(COUNTIF('التعلّم'!$B$8:$B$199,B29)=0,NA(),AVERAGEIF('التعلّم'!$B$8:$B$199,B29,'التعلّم'!$J$8:$J$199)),NA())
B30: 9 | C30: =IFERROR(IF(COUNTIF('التعلّم'!$B$8:$B$199,B30)=0,NA(),SUMIF('التعلّم'!$B$8:$B$199,B30,'التعلّم'!$I$8:$I$199)),NA()) | D30: =IFERROR(IF(COUNTIF('التعلّم'!$B$8:$B$199,B30)=0,NA(),AVERAGEIF('التعلّم'!$B$8:$B$199,B30,'التعلّم'!$J$8:$J$199)),NA())
B31: 10 | C31: =IFERROR(IF(COUNTIF('التعلّم'!$B$8:$B$199,B31)=0,NA(),SUMIF('التعلّم'!$B$8:$B$199,B31,'التعلّم'!$I$8:$I$199)),NA()) | D31: =IFERROR(IF(COUNTIF('التعلّم'!$B$8:$B$199,B31)=0,NA(),AVERAGEIF('التعلّم'!$B$8:$B$199,B31,'التعلّم'!$J$8:$J$199)),NA())
B32: 11 | C32: =IFERROR(IF(COUNTIF('التعلّم'!$B$8:$B$199,B32)=0,NA(),SUMIF('التعلّم'!$B$8:$B$199,B32,'التعلّم'!$I$8:$I$199)),NA()) | D32: =IFERROR(IF(COUNTIF('التعلّم'!$B$8:$B$199,B32)=0,NA(),AVERAGEIF('التعلّم'!$B$8:$B$199,B32,'التعلّم'!$J$8:$J$199)),NA())
B33: 12 | C33: =IFERROR(IF(COUNTIF('التعلّم'!$B$8:$B$199,B33)=0,NA(),SUMIF('التعلّم'!$B$8:$B$199,B33,'التعلّم'!$I$8:$I$199)),NA()) | D33: =IFERROR(IF(COUNTIF('التعلّم'!$B$8:$B$199,B33)=0,NA(),AVERAGEIF('التعلّم'!$B$8:$B$199,B33,'التعلّم'!$J$8:$J$199)),NA())
B34: أصفر = اكتب هنا
B35: أزرق = اكتب صيغة

Sheet الاختبار
A1: الاختبار: صور لم يرها الدماغ من قبل
A3: الصورة | B3: الجواب الحقيقي | C3: النتيجة | D3: احتمال (تفاح) | E3: الذكاء يقول | F3: صحيحة؟ (1=نعم، 0=لا)
A4: T1 | B4: تفاح | H4: T1 | L4: 1 | O4: T2 | S4: 1 | V4: T3 | Z4: 1 | AC4: T4 | AG4: 1 | AJ4: T5 | AN4: 1
A5: T2 | B5: تفاح | H5: 0 | I5: 0 | J5: 0 | K5: 0 | L5: 0 | O5: 0 | P5: 0 | Q5: 1 | R5: 0 | S5: 0 | V5: 0 | W5: 0 | X5: 0 | Y5: 0 | Z5: 0 | AC5: 0 | AD5: 1 | AE5: 0 | AF5: 0 | AG5: 0 | AJ5: 0 | AK5: 0 | AL5: 0 | AM5: 1 | AN5: 0
A6: T3 | B6: تفاح | H6: 0 | I6: 0 | J6: 1 | K6: 0 | L6: 0 | O6: 0 | P6: 1 | Q6: 0 | R6: 1 | S6: 0 | V6: 0 | W6: 0 | X6: 0 | Y6: 0 | Z6: 0 | AC6: 1 | AD6: 1 | AE6: 1 | AF6: 0 | AG6: 0 | AJ6: 1 | AK6: 1 | AL6: 1 | AM6: 1 | AN6: 1
A7: T4 | B7: تفاح | H7: 0 | I7: 1 | J7: 1 | K7: 1 | L7: 0 | O7: 1 | P7: 1 | Q7: 1 | R7: 1 | S7: 1 | V7: 0 | W7: 0 | X7: 1 | Y7: 0 | Z7: 0 | AC7: 1 | AD7: 1 | AE7: 1 | AF7: 0 | AG7: 0 | AJ7: 1 | AK7: 1 | AL7: 1 | AM7: 1 | AN7: 1
A8: T5 | B8: تفاح | H8: 1 | I8: 1 | J8: 1 | K8: 1 | L8: 1 | O8: 1 | P8: 1 | Q8: 0 | R8: 1 | S8: 1 | V8: 0 | W8: 1 | X8: 1 | Y8: 1 | Z8: 0 | AC8: 1 | AD8: 1 | AE8: 1 | AF8: 0 | AG8: 0 | AJ8: 1 | AK8: 1 | AL8: 1 | AM8: 1 | AN8: 1
A9: T6 | B9: موز | H9: 1 | I9: 1 | J9: 1 | K9: 1 | L9: 1 | O9: 0 | P9: 1 | Q9: 1 | R9: 1 | S9: 0 | V9: 0 | W9: 1 | X9: 1 | Y9: 1 | Z9: 0 | AC9: 0 | AD9: 1 | AE9: 1 | AF9: 0 | AG9: 0 | AJ9: 0 | AK9: 1 | AL9: 1 | AM9: 1 | AN9: 0
A10: T7 | B10: موز
A11: T8 | B11: موز
A12: T9 | B12: موز | H12: T6 | L12: 0 | O12: T7 | S12: 0 | V12: T8 | Z12: 0 | AC12: T9 | AG12: 0 | AJ12: T10 | AN12: 0
A13: T10 | B13: موز | H13: 0 | I13: 0 | J13: 1 | K13: 1 | L13: 0 | O13: 1 | P13: 0 | Q13: 0 | R13: 0 | S13: 1 | V13: 0 | W13: 0 | X13: 0 | Y13: 0 | Z13: 0 | AC13: 0 | AD13: 0 | AE13: 0 | AF13: 1 | AG13: 1 | AJ13: 0 | AK13: 0 | AL13: 0 | AM13: 0 | AN13: 0
H14: 0 | I14: 0 | J14: 1 | K14: 1 | L14: 0 | O14: 0 | P14: 0 | Q14: 0 | R14: 1 | S14: 1 | V14: 0 | W14: 0 | X14: 0 | Y14: 1 | Z14: 0 | AC14: 0 | AD14: 0 | AE14: 1 | AF14: 1 | AG14: 1 | AJ14: 1 | AK14: 0 | AL14: 0 | AM14: 0 | AN14: 0
H15: 0 | I15: 0 | J15: 1 | K15: 0 | L15: 0 | O15: 0 | P15: 0 | Q15: 1 | R15: 0 | S15: 1 | V15: 0 | W15: 0 | X15: 1 | Y15: 1 | Z15: 0 | AC15: 0 | AD15: 1 | AE15: 1 | AF15: 1 | AG15: 0 | AJ15: 1 | AK15: 1 | AL15: 0 | AM15: 0 | AN15: 0
A16: كم صورة؟ | H16: 0 | I16: 0 | J16: 1 | K16: 0 | L16: 0 | O16: 0 | P16: 1 | Q16: 1 | R16: 0 | S16: 0 | V16: 0 | W16: 1 | X16: 1 | Y16: 0 | Z16: 0 | AC16: 0 | AD16: 1 | AE16: 1 | AF16: 0 | AG16: 0 | AJ16: 0 | AK16: 1 | AL16: 1 | AM16: 0 | AN16: 0
A17: صحيحة | H17: 0 | I17: 1 | J17: 1 | K17: 0 | L17: 0 | O17: 1 | P17: 1 | Q17: 0 | R17: 0 | S17: 0 | V17: 1 | W17: 1 | X17: 0 | Y17: 0 | Z17: 0 | AC17: 0 | AD17: 1 | AE17: 0 | AF17: 0 | AG17: 0 | AJ17: 0 | AK17: 0 | AL17: 1 | AM17: 1 | AN17: 0
A18: الدقة
A20: =IF(ISNUMBER(C18),IF(C18>=0.9,"تحقق الهدف! 🏆","ليس بعد. أضف صورًا أو غيّر معدل التعلّم."),"الهدف: 90% أو أكثر")

Sheet ارسم
B1: ارسم: اصنع صورتك واسأل الدماغ
B2: اكتب 1 في المربعات لترسم. احذف الرقم 1 لتمحو. ثم اقرأ ما يقوله الدماغ.
H4: النتيجة | I4: ='التعلّم'!$L$199+SUMPRODUCT('البيانات'!D35:AB35,'التعلّم'!$AL$199:$BJ$199)
H5: احتمال (تفاح) | I5: =1/(1+EXP(-I4))
H7: =IF(I5>=0.5,"🍎 تفاح - "&TEXT(I5,"0%")&" متأكد","🍌 موز - "&TEXT(1-I5,"0%")&" متأكد")

Sheet البيانات
A1: الخانة | B1: الترتيب | C1: الجواب | D1: x1 | E1: x2 | F1: x3 | G1: x4 | H1: x5 | I1: x6 | J1: x7 | K1: x8 | L1: x9 | M1: x10 | N1: x11 | O1: x12 | P1: x13 | Q1: x14 | R1: x15 | S1: x16 | T1: x17 | U1: x18 | V1: x19 | W1: x20 | X1: x21 | Y1: x22 | Z1: x23 | AA1: x24 | AB1: x25
A2: 1 | B2: =IF(ISNUMBER('الصور'!F4),COUNT('الصور'!F4),"") | C2: =IF(ISNUMBER('الصور'!F4),'الصور'!F4,"") | D2: =IF('الصور'!B5=1,1,0) | E2: =IF('الصور'!C5=1,1,0) | F2: =IF('الصور'!D5=1,1,0) | G2: =IF('الصور'!E5=1,1,0) | H2: =IF('الصور'!F5=1,1,0) | I2: =IF('الصور'!B6=1,1,0) | J2: =IF('الصور'!C6=1,1,0) | K2: =IF('الصور'!D6=1,1,0) | L2: =IF('الصور'!E6=1,1,0) | M2: =IF('الصور'!F6=1,1,0) | N2: =IF('الصور'!B7=1,1,0) | O2: =IF('الصور'!C7=1,1,0) | P2: =IF('الصور'!D7=1,1,0) | Q2: =IF('الصور'!E7=1,1,0) | R2: =IF('الصور'!F7=1,1,0) | S2: =IF('الصور'!B8=1,1,0) | T2: =IF('الصور'!C8=1,1,0) | U2: =IF('الصور'!D8=1,1,0) | V2: =IF('الصور'!E8=1,1,0) | W2: =IF('الصور'!F8=1,1,0) | X2: =IF('الصور'!B9=1,1,0) | Y2: =IF('الصور'!C9=1,1,0) | Z2: =IF('الصور'!D9=1,1,0) | AA2: =IF('الصور'!E9=1,1,0) | AB2: =IF('الصور'!F9=1,1,0)
A3: 2 | B3: =IF(ISNUMBER('الصور'!M4),COUNT('الصور'!F4,'الصور'!M4),"") | C3: =IF(ISNUMBER('الصور'!M4),'الصور'!M4,"") | D3: =IF('الصور'!I5=1,1,0) | E3: =IF('الصور'!J5=1,1,0) | F3: =IF('الصور'!K5=1,1,0) | G3: =IF('الصور'!L5=1,1,0) | H3: =IF('الصور'!M5=1,1,0) | I3: =IF('الصور'!I6=1,1,0) | J3: =IF('الصور'!J6=1,1,0) | K3: =IF('الصور'!K6=1,1,0) | L3: =IF('الصور'!L6=1,1,0) | M3: =IF('الصور'!M6=1,1,0) | N3: =IF('الصور'!I7=1,1,0) | O3: =IF('الصور'!J7=1,1,0) | P3: =IF('الصور'!K7=1,1,0) | Q3: =IF('الصور'!L7=1,1,0) | R3: =IF('الصور'!M7=1,1,0) | S3: =IF('الصور'!I8=1,1,0) | T3: =IF('الصور'!J8=1,1,0) | U3: =IF('الصور'!K8=1,1,0) | V3: =IF('الصور'!L8=1,1,0) | W3: =IF('الصور'!M8=1,1,0) | X3: =IF('الصور'!I9=1,1,0) | Y3: =IF('الصور'!J9=1,1,0) | Z3: =IF('الصور'!K9=1,1,0) | AA3: =IF('الصور'!L9=1,1,0) | AB3: =IF('الصور'!M9=1,1,0)
A4: 3 | B4: =IF(ISNUMBER('الصور'!T4),COUNT('الصور'!F4,'الصور'!M4,'الصور'!T4),"") | C4: =IF(ISNUMBER('الصور'!T4),'الصور'!T4,"") | D4: =IF('الصور'!P5=1,1,0) | E4: =IF('الصور'!Q5=1,1,0) | F4: =IF('الصور'!R5=1,1,0) | G4: =IF('الصور'!S5=1,1,0) | H4: =IF('الصور'!T5=1,1,0) | I4: =IF('الصور'!P6=1,1,0) | J4: =IF('الصور'!Q6=1,1,0) | K4: =IF('الصور'!R6=1,1,0) | L4: =IF('الصور'!S6=1,1,0) | M4: =IF('الصور'!T6=1,1,0) | N4: =IF('الصور'!P7=1,1,0) | O4: =IF('الصور'!Q7=1,1,0) | P4: =IF('الصور'!R7=1,1,0) | Q4: =IF('الصور'!S7=1,1,0) | R4: =IF('الصور'!T7=1,1,0) | S4: =IF('الصور'!P8=1,1,0) | T4: =IF('الصور'!Q8=1,1,0) | U4: =IF('الصور'!R8=1,1,0) | V4: =IF('الصور'!S8=1,1,0) | W4: =IF('الصور'!T8=1,1,0) | X4: =IF('الصور'!P9=1,1,0) | Y4: =IF('الصور'!Q9=1,1,0) | Z4: =IF('الصور'!R9=1,1,0) | AA4: =IF('الصور'!S9=1,1,0) | AB4: =IF('الصور'!T9=1,1,0)
A5: 4 | B5: =IF(ISNUMBER('الصور'!AA4),COUNT('الصور'!F4,'الصور'!M4,'الصور'!T4,'الصور'!AA4),"") | C5: =IF(ISNUMBER('الصور'!AA4),'الصور'!AA4,"") | D5: =IF('الصور'!W5=1,1,0) | E5: =IF('الصور'!X5=1,1,0) | F5: =IF('الصور'!Y5=1,1,0) | G5: =IF('الصور'!Z5=1,1,0) | H5: =IF('الصور'!AA5=1,1,0) | I5: =IF('الصور'!W6=1,1,0) | J5: =IF('الصور'!X6=1,1,0) | K5: =IF('الصور'!Y6=1,1,0) | L5: =IF('الصور'!Z6=1,1,0) | M5: =IF('الصور'!AA6=1,1,0) | N5: =IF('الصور'!W7=1,1,0) | O5: =IF('الصور'!X7=1,1,0) | P5: =IF('الصور'!Y7=1,1,0) | Q5: =IF('الصور'!Z7=1,1,0) | R5: =IF('الصور'!AA7=1,1,0) | S5: =IF('الصور'!W8=1,1,0) | T5: =IF('الصور'!X8=1,1,0) | U5: =IF('الصور'!Y8=1,1,0) | V5: =IF('الصور'!Z8=1,1,0) | W5: =IF('الصور'!AA8=1,1,0) | X5: =IF('الصور'!W9=1,1,0) | Y5: =IF('الصور'!X9=1,1,0) | Z5: =IF('الصور'!Y9=1,1,0) | AA5: =IF('الصور'!Z9=1,1,0) | AB5: =IF('الصور'!AA9=1,1,0)
A6: 5 | B6: =IF(ISNUMBER('الصور'!F12),COUNT('الصور'!F4,'الصور'!M4,'الصور'!T4,'الصور'!AA4,'الصور'!F12),"") | C6: =IF(ISNUMBER('الصور'!F12),'الصور'!F12,"") | D6: =IF('الصور'!B13=1,1,0) | E6: =IF('الصور'!C13=1,1,0) | F6: =IF('الصور'!D13=1,1,0) | G6: =IF('الصور'!E13=1,1,0) | H6: =IF('الصور'!F13=1,1,0) | I6: =IF('الصور'!B14=1,1,0) | J6: =IF('الصور'!C14=1,1,0) | K6: =IF('الصور'!D14=1,1,0) | L6: =IF('الصور'!E14=1,1,0) | M6: =IF('الصور'!F14=1,1,0) | N6: =IF('الصور'!B15=1,1,0) | O6: =IF('الصور'!C15=1,1,0) | P6: =IF('الصور'!D15=1,1,0) | Q6: =IF('الصور'!E15=1,1,0) | R6: =IF('الصور'!F15=1,1,0) | S6: =IF('الصور'!B16=1,1,0) | T6: =IF('الصور'!C16=1,1,0) | U6: =IF('الصور'!D16=1,1,0) | V6: =IF('الصور'!E16=1,1,0) | W6: =IF('الصور'!F16=1,1,0) | X6: =IF('الصور'!B17=1,1,0) | Y6: =IF('الصور'!C17=1,1,0) | Z6: =IF('الصور'!D17=1,1,0) | AA6: =IF('الصور'!E17=1,1,0) | AB6: =IF('الصور'!F17=1,1,0)
A7: 6 | B7: =IF(ISNUMBER('الصور'!M12),COUNT('الصور'!F4,'الصور'!M4,'الصور'!T4,'الصور'!AA4,'الصور'!F12,'الصور'!M12),"") | C7: =IF(ISNUMBER('الصور'!M12),'الصور'!M12,"") | D7: =IF('الصور'!I13=1,1,0) | E7: =IF('الصور'!J13=1,1,0) | F7: =IF('الصور'!K13=1,1,0) | G7: =IF('الصور'!L13=1,1,0) | H7: =IF('الصور'!M13=1,1,0) | I7: =IF('الصور'!I14=1,1,0) | J7: =IF('الصور'!J14=1,1,0) | K7: =IF('الصور'!K14=1,1,0) | L7: =IF('الصور'!L14=1,1,0) | M7: =IF('الصور'!M14=1,1,0) | N7: =IF('الصور'!I15=1,1,0) | O7: =IF('الصور'!J15=1,1,0) | P7: =IF('الصور'!K15=1,1,0) | Q7: =IF('الصور'!L15=1,1,0) | R7: =IF('الصور'!M15=1,1,0) | S7: =IF('الصور'!I16=1,1,0) | T7: =IF('الصور'!J16=1,1,0) | U7: =IF('الصور'!K16=1,1,0) | V7: =IF('الصور'!L16=1,1,0) | W7: =IF('الصور'!M16=1,1,0) | X7: =IF('الصور'!I17=1,1,0) | Y7: =IF('الصور'!J17=1,1,0) | Z7: =IF('الصور'!K17=1,1,0) | AA7: =IF('الصور'!L17=1,1,0) | AB7: =IF('الصور'!M17=1,1,0)
A8: 7 | B8: =IF(ISNUMBER('الصور'!T12),COUNT('الصور'!F4,'الصور'!M4,'الصور'!T4,'الصور'!AA4,'الصور'!F12,'الصور'!M12,'الصور'!T12),"") | C8: =IF(ISNUMBER('الصور'!T12),'الصور'!T12,"") | D8: =IF('الصور'!P13=1,1,0) | E8: =IF('الصور'!Q13=1,1,0) | F8: =IF('الصور'!R13=1,1,0) | G8: =IF('الصور'!S13=1,1,0) | H8: =IF('الصور'!T13=1,1,0) | I8: =IF('الصور'!P14=1,1,0) | J8: =IF('الصور'!Q14=1,1,0) | K8: =IF('الصور'!R14=1,1,0) | L8: =IF('الصور'!S14=1,1,0) | M8: =IF('الصور'!T14=1,1,0) | N8: =IF('الصور'!P15=1,1,0) | O8: =IF('الصور'!Q15=1,1,0) | P8: =IF('الصور'!R15=1,1,0) | Q8: =IF('الصور'!S15=1,1,0) | R8: =IF('الصور'!T15=1,1,0) | S8: =IF('الصور'!P16=1,1,0) | T8: =IF('الصور'!Q16=1,1,0) | U8: =IF('الصور'!R16=1,1,0) | V8: =IF('الصور'!S16=1,1,0) | W8: =IF('الصور'!T16=1,1,0) | X8: =IF('الصور'!P17=1,1,0) | Y8: =IF('الصور'!Q17=1,1,0) | Z8: =IF('الصور'!R17=1,1,0) | AA8: =IF('الصور'!S17=1,1,0) | AB8: =IF('الصور'!T17=1,1,0)
A9: 8 | B9: =IF(ISNUMBER('الصور'!AA12),COUNT('الصور'!F4,'الصور'!M4,'الصور'!T4,'الصور'!AA4,'الصور'!F12,'الصور'!M12,'الصور'!T12,'الصور'!AA12),"") | C9: =IF(ISNUMBER('الصور'!AA12),'الصور'!AA12,"") | D9: =IF('الصور'!W13=1,1,0) | E9: =IF('الصور'!X13=1,1,0) | F9: =IF('الصور'!Y13=1,1,0) | G9: =IF('الصور'!Z13=1,1,0) | H9: =IF('الصور'!AA13=1,1,0) | I9: =IF('الصور'!W14=1,1,0) | J9: =IF('الصور'!X14=1,1,0) | K9: =IF('الصور'!Y14=1,1,0) | L9: =IF('الصور'!Z14=1,1,0) | M9: =IF('الصور'!AA14=1,1,0) | N9: =IF('الصور'!W15=1,1,0) | O9: =IF('الصور'!X15=1,1,0) | P9: =IF('الصور'!Y15=1,1,0) | Q9: =IF('الصور'!Z15=1,1,0) | R9: =IF('الصور'!AA15=1,1,0) | S9: =IF('الصور'!W16=1,1,0) | T9: =IF('الصور'!X16=1,1,0) | U9: =IF('الصور'!Y16=1,1,0) | V9: =IF('الصور'!Z16=1,1,0) | W9: =IF('الصور'!AA16=1,1,0) | X9: =IF('الصور'!W17=1,1,0) | Y9: =IF('الصور'!X17=1,1,0) | Z9: =IF('الصور'!Y17=1,1,0) | AA9: =IF('الصور'!Z17=1,1,0) | AB9: =IF('الصور'!AA17=1,1,0)
A10: 9 | B10: =IF(ISNUMBER('الصور'!F20),COUNT('الصور'!F4,'الصور'!M4,'الصور'!T4,'الصور'!AA4,'الصور'!F12,'الصور'!M12,'الصور'!T12,'الصور'!AA12,'الصور'!F20),"") | C10: =IF(ISNUMBER('الصور'!F20),'الصور'!F20,"") | D10: =IF('الصور'!B21=1,1,0) | E10: =IF('الصور'!C21=1,1,0) | F10: =IF('الصور'!D21=1,1,0) | G10: =IF('الصور'!E21=1,1,0) | H10: =IF('الصور'!F21=1,1,0) | I10: =IF('الصور'!B22=1,1,0) | J10: =IF('الصور'!C22=1,1,0) | K10: =IF('الصور'!D22=1,1,0) | L10: =IF('الصور'!E22=1,1,0) | M10: =IF('الصور'!F22=1,1,0) | N10: =IF('الصور'!B23=1,1,0) | O10: =IF('الصور'!C23=1,1,0) | P10: =IF('الصور'!D23=1,1,0) | Q10: =IF('الصور'!E23=1,1,0) | R10: =IF('الصور'!F23=1,1,0) | S10: =IF('الصور'!B24=1,1,0) | T10: =IF('الصور'!C24=1,1,0) | U10: =IF('الصور'!D24=1,1,0) | V10: =IF('الصور'!E24=1,1,0) | W10: =IF('الصور'!F24=1,1,0) | X10: =IF('الصور'!B25=1,1,0) | Y10: =IF('الصور'!C25=1,1,0) | Z10: =IF('الصور'!D25=1,1,0) | AA10: =IF('الصور'!E25=1,1,0) | AB10: =IF('الصور'!F25=1,1,0)
A11: 10 | B11: =IF(ISNUMBER('الصور'!M20),COUNT('الصور'!F4,'الصور'!M4,'الصور'!T4,'الصور'!AA4,'الصور'!F12,'الصور'!M12,'الصور'!T12,'الصور'!AA12,'الصور'!F20,'الصور'!M20),"") | C11: =IF(ISNUMBER('الصور'!M20),'الصور'!M20,"") | D11: =IF('الصور'!I21=1,1,0) | E11: =IF('الصور'!J21=1,1,0) | F11: =IF('الصور'!K21=1,1,0) | G11: =IF('الصور'!L21=1,1,0) | H11: =IF('الصور'!M21=1,1,0) | I11: =IF('الصور'!I22=1,1,0) | J11: =IF('الصور'!J22=1,1,0) | K11: =IF('الصور'!K22=1,1,0) | L11: =IF('الصور'!L22=1,1,0) | M11: =IF('الصور'!M22=1,1,0) | N11: =IF('الصور'!I23=1,1,0) | O11: =IF('الصور'!J23=1,1,0) | P11: =IF('الصور'!K23=1,1,0) | Q11: =IF('الصور'!L23=1,1,0) | R11: =IF('الصور'!M23=1,1,0) | S11: =IF('الصور'!I24=1,1,0) | T11: =IF('الصور'!J24=1,1,0) | U11: =IF('الصور'!K24=1,1,0) | V11: =IF('الصور'!L24=1,1,0) | W11: =IF('الصور'!M24=1,1,0) | X11: =IF('الصور'!I25=1,1,0) | Y11: =IF('الصور'!J25=1,1,0) | Z11: =IF('الصور'!K25=1,1,0) | AA11: =IF('الصور'!L25=1,1,0) | AB11: =IF('الصور'!M25=1,1,0)
A12: 11 | B12: =IF(ISNUMBER('الصور'!T20),COUNT('الصور'!F4,'الصور'!M4,'الصور'!T4,'الصور'!AA4,'الصور'!F12,'الصور'!M12,'الصور'!T12,'الصور'!AA12,'الصور'!F20,'الصور'!M20,'الصور'!T20),"") | C12: =IF(ISNUMBER('الصور'!T20),'الصور'!T20,"") | D12: =IF('الصور'!P21=1,1,0) | E12: =IF('الصور'!Q21=1,1,0) | F12: =IF('الصور'!R21=1,1,0) | G12: =IF('الصور'!S21=1,1,0) | H12: =IF('الصور'!T21=1,1,0) | I12: =IF('الصور'!P22=1,1,0) | J12: =IF('الصور'!Q22=1,1,0) | K12: =IF('الصور'!R22=1,1,0) | L12: =IF('الصور'!S22=1,1,0) | M12: =IF('الصور'!T22=1,1,0) | N12: =IF('الصور'!P23=1,1,0) | O12: =IF('الصور'!Q23=1,1,0) | P12: =IF('الصور'!R23=1,1,0) | Q12: =IF('الصور'!S23=1,1,0) | R12: =IF('الصور'!T23=1,1,0) | S12: =IF('الصور'!P24=1,1,0) | T12: =IF('الصور'!Q24=1,1,0) | U12: =IF('الصور'!R24=1,1,0) | V12: =IF('الصور'!S24=1,1,0) | W12: =IF('الصور'!T24=1,1,0) | X12: =IF('الصور'!P25=1,1,0) | Y12: =IF('الصور'!Q25=1,1,0) | Z12: =IF('الصور'!R25=1,1,0) | AA12: =IF('الصور'!S25=1,1,0) | AB12: =IF('الصور'!T25=1,1,0)
A13: 12 | B13: =IF(ISNUMBER('الصور'!AA20),COUNT('الصور'!F4,'الصور'!M4,'الصور'!T4,'الصور'!AA4,'الصور'!F12,'الصور'!M12,'الصور'!T12,'الصور'!AA12,'الصور'!F20,'الصور'!M20,'الصور'!T20,'الصور'!AA20),"") | C13: =IF(ISNUMBER('الصور'!AA20),'الصور'!AA20,"") | D13: =IF('الصور'!W21=1,1,0) | E13: =IF('الصور'!X21=1,1,0) | F13: =IF('الصور'!Y21=1,1,0) | G13: =IF('الصور'!Z21=1,1,0) | H13: =IF('الصور'!AA21=1,1,0) | I13: =IF('الصور'!W22=1,1,0) | J13: =IF('الصور'!X22=1,1,0) | K13: =IF('الصور'!Y22=1,1,0) | L13: =IF('الصور'!Z22=1,1,0) | M13: =IF('الصور'!AA22=1,1,0) | N13: =IF('الصور'!W23=1,1,0) | O13: =IF('الصور'!X23=1,1,0) | P13: =IF('الصور'!Y23=1,1,0) | Q13: =IF('الصور'!Z23=1,1,0) | R13: =IF('الصور'!AA23=1,1,0) | S13: =IF('الصور'!W24=1,1,0) | T13: =IF('الصور'!X24=1,1,0) | U13: =IF('الصور'!Y24=1,1,0) | V13: =IF('الصور'!Z24=1,1,0) | W13: =IF('الصور'!AA24=1,1,0) | X13: =IF('الصور'!W25=1,1,0) | Y13: =IF('الصور'!X25=1,1,0) | Z13: =IF('الصور'!Y25=1,1,0) | AA13: =IF('الصور'!Z25=1,1,0) | AB13: =IF('الصور'!AA25=1,1,0)
A14: 13 | B14: =IF(ISNUMBER('الصور'!F28),COUNT('الصور'!F4,'الصور'!M4,'الصور'!T4,'الصور'!AA4,'الصور'!F12,'الصور'!M12,'الصور'!T12,'الصور'!AA12,'الصور'!F20,'الصور'!M20,'الصور'!T20,'الصور'!AA20,'الصور'!F28),"") | C14: =IF(ISNUMBER('الصور'!F28),'الصور'!F28,"") | D14: =IF('الصور'!B29=1,1,0) | E14: =IF('الصور'!C29=1,1,0) | F14: =IF('الصور'!D29=1,1,0) | G14: =IF('الصور'!E29=1,1,0) | H14: =IF('الصور'!F29=1,1,0) | I14: =IF('الصور'!B30=1,1,0) | J14: =IF('الصور'!C30=1,1,0) | K14: =IF('الصور'!D30=1,1,0) | L14: =IF('الصور'!E30=1,1,0) | M14: =IF('الصور'!F30=1,1,0) | N14: =IF('الصور'!B31=1,1,0) | O14: =IF('الصور'!C31=1,1,0) | P14: =IF('الصور'!D31=1,1,0) | Q14: =IF('الصور'!E31=1,1,0) | R14: =IF('الصور'!F31=1,1,0) | S14: =IF('الصور'!B32=1,1,0) | T14: =IF('الصور'!C32=1,1,0) | U14: =IF('الصور'!D32=1,1,0) | V14: =IF('الصور'!E32=1,1,0) | W14: =IF('الصور'!F32=1,1,0) | X14: =IF('الصور'!B33=1,1,0) | Y14: =IF('الصور'!C33=1,1,0) | Z14: =IF('الصور'!D33=1,1,0) | AA14: =IF('الصور'!E33=1,1,0) | AB14: =IF('الصور'!F33=1,1,0)
A15: 14 | B15: =IF(ISNUMBER('الصور'!M28),COUNT('الصور'!F4,'الصور'!M4,'الصور'!T4,'الصور'!AA4,'الصور'!F12,'الصور'!M12,'الصور'!T12,'الصور'!AA12,'الصور'!F20,'الصور'!M20,'الصور'!T20,'الصور'!AA20,'الصور'!F28,'الصور'!M28),"") | C15: =IF(ISNUMBER('الصور'!M28),'الصور'!M28,"") | D15: =IF('الصور'!I29=1,1,0) | E15: =IF('الصور'!J29=1,1,0) | F15: =IF('الصور'!K29=1,1,0) | G15: =IF('الصور'!L29=1,1,0) | H15: =IF('الصور'!M29=1,1,0) | I15: =IF('الصور'!I30=1,1,0) | J15: =IF('الصور'!J30=1,1,0) | K15: =IF('الصور'!K30=1,1,0) | L15: =IF('الصور'!L30=1,1,0) | M15: =IF('الصور'!M30=1,1,0) | N15: =IF('الصور'!I31=1,1,0) | O15: =IF('الصور'!J31=1,1,0) | P15: =IF('الصور'!K31=1,1,0) | Q15: =IF('الصور'!L31=1,1,0) | R15: =IF('الصور'!M31=1,1,0) | S15: =IF('الصور'!I32=1,1,0) | T15: =IF('الصور'!J32=1,1,0) | U15: =IF('الصور'!K32=1,1,0) | V15: =IF('الصور'!L32=1,1,0) | W15: =IF('الصور'!M32=1,1,0) | X15: =IF('الصور'!I33=1,1,0) | Y15: =IF('الصور'!J33=1,1,0) | Z15: =IF('الصور'!K33=1,1,0) | AA15: =IF('الصور'!L33=1,1,0) | AB15: =IF('الصور'!M33=1,1,0)
A16: 15 | B16: =IF(ISNUMBER('الصور'!T28),COUNT('الصور'!F4,'الصور'!M4,'الصور'!T4,'الصور'!AA4,'الصور'!F12,'الصور'!M12,'الصور'!T12,'الصور'!AA12,'الصور'!F20,'الصور'!M20,'الصور'!T20,'الصور'!AA20,'الصور'!F28,'الصور'!M28,'الصور'!T28),"") | C16: =IF(ISNUMBER('الصور'!T28),'الصور'!T28,"") | D16: =IF('الصور'!P29=1,1,0) | E16: =IF('الصور'!Q29=1,1,0) | F16: =IF('الصور'!R29=1,1,0) | G16: =IF('الصور'!S29=1,1,0) | H16: =IF('الصور'!T29=1,1,0) | I16: =IF('الصور'!P30=1,1,0) | J16: =IF('الصور'!Q30=1,1,0) | K16: =IF('الصور'!R30=1,1,0) | L16: =IF('الصور'!S30=1,1,0) | M16: =IF('الصور'!T30=1,1,0) | N16: =IF('الصور'!P31=1,1,0) | O16: =IF('الصور'!Q31=1,1,0) | P16: =IF('الصور'!R31=1,1,0) | Q16: =IF('الصور'!S31=1,1,0) | R16: =IF('الصور'!T31=1,1,0) | S16: =IF('الصور'!P32=1,1,0) | T16: =IF('الصور'!Q32=1,1,0) | U16: =IF('الصور'!R32=1,1,0) | V16: =IF('الصور'!S32=1,1,0) | W16: =IF('الصور'!T32=1,1,0) | X16: =IF('الصور'!P33=1,1,0) | Y16: =IF('الصور'!Q33=1,1,0) | Z16: =IF('الصور'!R33=1,1,0) | AA16: =IF('الصور'!S33=1,1,0) | AB16: =IF('الصور'!T33=1,1,0)
A17: 16 | B17: =IF(ISNUMBER('الصور'!AA28),COUNT('الصور'!F4,'الصور'!M4,'الصور'!T4,'الصور'!AA4,'الصور'!F12,'الصور'!M12,'الصور'!T12,'الصور'!AA12,'الصور'!F20,'الصور'!M20,'الصور'!T20,'الصور'!AA20,'الصور'!F28,'الصور'!M28,'الصور'!T28,'الصور'!AA28),"") | C17: =IF(ISNUMBER('الصور'!AA28),'الصور'!AA28,"") | D17: =IF('الصور'!W29=1,1,0) | E17: =IF('الصور'!X29=1,1,0) | F17: =IF('الصور'!Y29=1,1,0) | G17: =IF('الصور'!Z29=1,1,0) | H17: =IF('الصور'!AA29=1,1,0) | I17: =IF('الصور'!W30=1,1,0) | J17: =IF('الصور'!X30=1,1,0) | K17: =IF('الصور'!Y30=1,1,0) | L17: =IF('الصور'!Z30=1,1,0) | M17: =IF('الصور'!AA30=1,1,0) | N17: =IF('الصور'!W31=1,1,0) | O17: =IF('الصور'!X31=1,1,0) | P17: =IF('الصور'!Y31=1,1,0) | Q17: =IF('الصور'!Z31=1,1,0) | R17: =IF('الصور'!AA31=1,1,0) | S17: =IF('الصور'!W32=1,1,0) | T17: =IF('الصور'!X32=1,1,0) | U17: =IF('الصور'!Y32=1,1,0) | V17: =IF('الصور'!Z32=1,1,0) | W17: =IF('الصور'!AA32=1,1,0) | X17: =IF('الصور'!W33=1,1,0) | Y17: =IF('الصور'!X33=1,1,0) | Z17: =IF('الصور'!Y33=1,1,0) | AA17: =IF('الصور'!Z33=1,1,0) | AB17: =IF('الصور'!AA33=1,1,0)
A19: ورقة مساعدة: الصيغ تنسخ الصور إلى صفوف. لا تكتب هنا.
A21: Test
A22: T1 | C22: 1 | D22: ='الاختبار'!H5 | E22: ='الاختبار'!I5 | F22: ='الاختبار'!J5 | G22: ='الاختبار'!K5 | H22: ='الاختبار'!L5 | I22: ='الاختبار'!H6 | J22: ='الاختبار'!I6 | K22: ='الاختبار'!J6 | L22: ='الاختبار'!K6 | M22: ='الاختبار'!L6 | N22: ='الاختبار'!H7 | O22: ='الاختبار'!I7 | P22: ='الاختبار'!J7 | Q22: ='الاختبار'!K7 | R22: ='الاختبار'!L7 | S22: ='الاختبار'!H8 | T22: ='الاختبار'!I8 | U22: ='الاختبار'!J8 | V22: ='الاختبار'!K8 | W22: ='الاختبار'!L8 | X22: ='الاختبار'!H9 | Y22: ='الاختبار'!I9 | Z22: ='الاختبار'!J9 | AA22: ='الاختبار'!K9 | AB22: ='الاختبار'!L9
A23: T2 | C23: 1 | D23: ='الاختبار'!O5 | E23: ='الاختبار'!P5 | F23: ='الاختبار'!Q5 | G23: ='الاختبار'!R5 | H23: ='الاختبار'!S5 | I23: ='الاختبار'!O6 | J23: ='الاختبار'!P6 | K23: ='الاختبار'!Q6 | L23: ='الاختبار'!R6 | M23: ='الاختبار'!S6 | N23: ='الاختبار'!O7 | O23: ='الاختبار'!P7 | P23: ='الاختبار'!Q7 | Q23: ='الاختبار'!R7 | R23: ='الاختبار'!S7 | S23: ='الاختبار'!O8 | T23: ='الاختبار'!P8 | U23: ='الاختبار'!Q8 | V23: ='الاختبار'!R8 | W23: ='الاختبار'!S8 | X23: ='الاختبار'!O9 | Y23: ='الاختبار'!P9 | Z23: ='الاختبار'!Q9 | AA23: ='الاختبار'!R9 | AB23: ='الاختبار'!S9
A24: T3 | C24: 1 | D24: ='الاختبار'!V5 | E24: ='الاختبار'!W5 | F24: ='الاختبار'!X5 | G24: ='الاختبار'!Y5 | H24: ='الاختبار'!Z5 | I24: ='الاختبار'!V6 | J24: ='الاختبار'!W6 | K24: ='الاختبار'!X6 | L24: ='الاختبار'!Y6 | M24: ='الاختبار'!Z6 | N24: ='الاختبار'!V7 | O24: ='الاختبار'!W7 | P24: ='الاختبار'!X7 | Q24: ='الاختبار'!Y7 | R24: ='الاختبار'!Z7 | S24: ='الاختبار'!V8 | T24: ='الاختبار'!W8 | U24: ='الاختبار'!X8 | V24: ='الاختبار'!Y8 | W24: ='الاختبار'!Z8 | X24: ='الاختبار'!V9 | Y24: ='الاختبار'!W9 | Z24: ='الاختبار'!X9 | AA24: ='الاختبار'!Y9 | AB24: ='الاختبار'!Z9
A25: T4 | C25: 1 | D25: ='الاختبار'!AC5 | E25: ='الاختبار'!AD5 | F25: ='الاختبار'!AE5 | G25: ='الاختبار'!AF5 | H25: ='الاختبار'!AG5 | I25: ='الاختبار'!AC6 | J25: ='الاختبار'!AD6 | K25: ='الاختبار'!AE6 | L25: ='الاختبار'!AF6 | M25: ='الاختبار'!AG6 | N25: ='الاختبار'!AC7 | O25: ='الاختبار'!AD7 | P25: ='الاختبار'!AE7 | Q25: ='الاختبار'!AF7 | R25: ='الاختبار'!AG7 | S25: ='الاختبار'!AC8 | T25: ='الاختبار'!AD8 | U25: ='الاختبار'!AE8 | V25: ='الاختبار'!AF8 | W25: ='الاختبار'!AG8 | X25: ='الاختبار'!AC9 | Y25: ='الاختبار'!AD9 | Z25: ='الاختبار'!AE9 | AA25: ='الاختبار'!AF9 | AB25: ='الاختبار'!AG9
A26: T5 | C26: 1 | D26: ='الاختبار'!AJ5 | E26: ='الاختبار'!AK5 | F26: ='الاختبار'!AL5 | G26: ='الاختبار'!AM5 | H26: ='الاختبار'!AN5 | I26: ='الاختبار'!AJ6 | J26: ='الاختبار'!AK6 | K26: ='الاختبار'!AL6 | L26: ='الاختبار'!AM6 | M26: ='الاختبار'!AN6 | N26: ='الاختبار'!AJ7 | O26: ='الاختبار'!AK7 | P26: ='الاختبار'!AL7 | Q26: ='الاختبار'!AM7 | R26: ='الاختبار'!AN7 | S26: ='الاختبار'!AJ8 | T26: ='الاختبار'!AK8 | U26: ='الاختبار'!AL8 | V26: ='الاختبار'!AM8 | W26: ='الاختبار'!AN8 | X26: ='الاختبار'!AJ9 | Y26: ='الاختبار'!AK9 | Z26: ='الاختبار'!AL9 | AA26: ='الاختبار'!AM9 | AB26: ='الاختبار'!AN9
A27: T6 | C27: 0 | D27: ='الاختبار'!H13 | E27: ='الاختبار'!I13 | F27: ='الاختبار'!J13 | G27: ='الاختبار'!K13 | H27: ='الاختبار'!L13 | I27: ='الاختبار'!H14 | J27: ='الاختبار'!I14 | K27: ='الاختبار'!J14 | L27: ='الاختبار'!K14 | M27: ='الاختبار'!L14 | N27: ='الاختبار'!H15 | O27: ='الاختبار'!I15 | P27: ='الاختبار'!J15 | Q27: ='الاختبار'!K15 | R27: ='الاختبار'!L15 | S27: ='الاختبار'!H16 | T27: ='الاختبار'!I16 | U27: ='الاختبار'!J16 | V27: ='الاختبار'!K16 | W27: ='الاختبار'!L16 | X27: ='الاختبار'!H17 | Y27: ='الاختبار'!I17 | Z27: ='الاختبار'!J17 | AA27: ='الاختبار'!K17 | AB27: ='الاختبار'!L17
A28: T7 | C28: 0 | D28: ='الاختبار'!O13 | E28: ='الاختبار'!P13 | F28: ='الاختبار'!Q13 | G28: ='الاختبار'!R13 | H28: ='الاختبار'!S13 | I28: ='الاختبار'!O14 | J28: ='الاختبار'!P14 | K28: ='الاختبار'!Q14 | L28: ='الاختبار'!R14 | M28: ='الاختبار'!S14 | N28: ='الاختبار'!O15 | O28: ='الاختبار'!P15 | P28: ='الاختبار'!Q15 | Q28: ='الاختبار'!R15 | R28: ='الاختبار'!S15 | S28: ='الاختبار'!O16 | T28: ='الاختبار'!P16 | U28: ='الاختبار'!Q16 | V28: ='الاختبار'!R16 | W28: ='الاختبار'!S16 | X28: ='الاختبار'!O17 | Y28: ='الاختبار'!P17 | Z28: ='الاختبار'!Q17 | AA28: ='الاختبار'!R17 | AB28: ='الاختبار'!S17
A29: T8 | C29: 0 | D29: ='الاختبار'!V13 | E29: ='الاختبار'!W13 | F29: ='الاختبار'!X13 | G29: ='الاختبار'!Y13 | H29: ='الاختبار'!Z13 | I29: ='الاختبار'!V14 | J29: ='الاختبار'!W14 | K29: ='الاختبار'!X14 | L29: ='الاختبار'!Y14 | M29: ='الاختبار'!Z14 | N29: ='الاختبار'!V15 | O29: ='الاختبار'!W15 | P29: ='الاختبار'!X15 | Q29: ='الاختبار'!Y15 | R29: ='الاختبار'!Z15 | S29: ='الاختبار'!V16 | T29: ='الاختبار'!W16 | U29: ='الاختبار'!X16 | V29: ='الاختبار'!Y16 | W29: ='الاختبار'!Z16 | X29: ='الاختبار'!V17 | Y29: ='الاختبار'!W17 | Z29: ='الاختبار'!X17 | AA29: ='الاختبار'!Y17 | AB29: ='الاختبار'!Z17
A30: T9 | C30: 0 | D30: ='الاختبار'!AC13 | E30: ='الاختبار'!AD13 | F30: ='الاختبار'!AE13 | G30: ='الاختبار'!AF13 | H30: ='الاختبار'!AG13 | I30: ='الاختبار'!AC14 | J30: ='الاختبار'!AD14 | K30: ='الاختبار'!AE14 | L30: ='الاختبار'!AF14 | M30: ='الاختبار'!AG14 | N30: ='الاختبار'!AC15 | O30: ='الاختبار'!AD15 | P30: ='الاختبار'!AE15 | Q30: ='الاختبار'!AF15 | R30: ='الاختبار'!AG15 | S30: ='الاختبار'!AC16 | T30: ='الاختبار'!AD16 | U30: ='الاختبار'!AE16 | V30: ='الاختبار'!AF16 | W30: ='الاختبار'!AG16 | X30: ='الاختبار'!AC17 | Y30: ='الاختبار'!AD17 | Z30: ='الاختبار'!AE17 | AA30: ='الاختبار'!AF17 | AB30: ='الاختبار'!AG17
A31: T10 | C31: 0 | D31: ='الاختبار'!AJ13 | E31: ='الاختبار'!AK13 | F31: ='الاختبار'!AL13 | G31: ='الاختبار'!AM13 | H31: ='الاختبار'!AN13 | I31: ='الاختبار'!AJ14 | J31: ='الاختبار'!AK14 | K31: ='الاختبار'!AL14 | L31: ='الاختبار'!AM14 | M31: ='الاختبار'!AN14 | N31: ='الاختبار'!AJ15 | O31: ='الاختبار'!AK15 | P31: ='الاختبار'!AL15 | Q31: ='الاختبار'!AM15 | R31: ='الاختبار'!AN15 | S31: ='الاختبار'!AJ16 | T31: ='الاختبار'!AK16 | U31: ='الاختبار'!AL16 | V31: ='الاختبار'!AM16 | W31: ='الاختبار'!AN16 | X31: ='الاختبار'!AJ17 | Y31: ='الاختبار'!AK17 | Z31: ='الاختبار'!AL17 | AA31: ='الاختبار'!AM17 | AB31: ='الاختبار'!AN17
A34: Draw
D35: =IF('ارسم'!B4=1,1,0) | E35: =IF('ارسم'!C4=1,1,0) | F35: =IF('ارسم'!D4=1,1,0) | G35: =IF('ارسم'!E4=1,1,0) | H35: =IF('ارسم'!F4=1,1,0) | I35: =IF('ارسم'!B5=1,1,0) | J35: =IF('ارسم'!C5=1,1,0) | K35: =IF('ارسم'!D5=1,1,0) | L35: =IF('ارسم'!E5=1,1,0) | M35: =IF('ارسم'!F5=1,1,0) | N35: =IF('ارسم'!B6=1,1,0) | O35: =IF('ارسم'!C6=1,1,0) | P35: =IF('ارسم'!D6=1,1,0) | Q35: =IF('ارسم'!E6=1,1,0) | R35: =IF('ارسم'!F6=1,1,0) | S35: =IF('ارسم'!B7=1,1,0) | T35: =IF('ارسم'!C7=1,1,0) | U35: =IF('ارسم'!D7=1,1,0) | V35: =IF('ارسم'!E7=1,1,0) | W35: =IF('ارسم'!F7=1,1,0) | X35: =IF('ارسم'!B8=1,1,0) | Y35: =IF('ارسم'!C8=1,1,0) | Z35: =IF('ارسم'!D8=1,1,0) | AA35: =IF('ارسم'!E8=1,1,0) | AB35: =IF('ارسم'!F8=1,1,0)
